BEGIN:VCALENDAR
VERSION:2.0
PRODID:-//Chaoyin Bilingual School - ECPv5.1.0//NONSGML v1.0//EN
CALSCALE:GREGORIAN
METHOD:PUBLISH
X-WR-CALNAME:Chaoyin Bilingual School
X-ORIGINAL-URL:https://chaoyinschool.ca
X-WR-CALDESC:Events for Chaoyin Bilingual School
BEGIN:VTIMEZONE
TZID:America/Vancouver
BEGIN:DAYLIGHT
TZOFFSETFROM:-0800
TZOFFSETTO:-0700
TZNAME:PDT
DTSTART:20220313T100000
END:DAYLIGHT
BEGIN:STANDARD
TZOFFSETFROM:-0700
TZOFFSETTO:-0800
TZNAME:PST
DTSTART:20221106T090000
END:STANDARD
END:VTIMEZONE
BEGIN:VEVENT
DTSTART;VALUE=DATE:20221219
DTEND;VALUE=DATE:20221231
DTSTAMP:20260421T063922
CREATED:20230609T115444Z
LAST-MODIFIED:20230609T115444Z
UID:3721-1671408000-1672444799@chaoyinschool.ca
SUMMARY:Christmas Holiday
DESCRIPTION:
URL:https://chaoyinschool.ca/event/christmas-holiday/
END:VEVENT
END:VCALENDAR