BEGIN:VCALENDAR
VERSION:2.0
PRODID:-//Chaoyin Bilingual School - ECPv5.1.0//NONSGML v1.0//EN
CALSCALE:GREGORIAN
METHOD:PUBLISH
X-WR-CALNAME:Chaoyin Bilingual School
X-ORIGINAL-URL:https://chaoyinschool.ca
X-WR-CALDESC:Events for Chaoyin Bilingual School
BEGIN:VTIMEZONE
TZID:America/Vancouver
BEGIN:DAYLIGHT
TZOFFSETFROM:-0800
TZOFFSETTO:-0700
TZNAME:PDT
DTSTART:20230312T100000
END:DAYLIGHT
BEGIN:STANDARD
TZOFFSETFROM:-0700
TZOFFSETTO:-0800
TZNAME:PST
DTSTART:20231105T090000
END:STANDARD
END:VTIMEZONE
BEGIN:VEVENT
DTSTART;VALUE=DATE:20230220
DTEND;VALUE=DATE:20230221
DTSTAMP:20260421T053149
CREATED:20230609T114425Z
LAST-MODIFIED:20230609T114425Z
UID:3713-1676851200-1676937599@chaoyinschool.ca
SUMMARY:BC Family Day - Holiday
DESCRIPTION:
URL:https://chaoyinschool.ca/event/bc-family-day-holiday/
END:VEVENT
END:VCALENDAR