BEGIN:VCALENDAR
VERSION:2.0
PRODID:-//Chaoyin Bilingual School - ECPv5.1.0//NONSGML v1.0//EN
CALSCALE:GREGORIAN
METHOD:PUBLISH
X-WR-CALNAME:Chaoyin Bilingual School
X-ORIGINAL-URL:https://chaoyinschool.ca
X-WR-CALDESC:Events for Chaoyin Bilingual School
BEGIN:VTIMEZONE
TZID:America/Vancouver
BEGIN:DAYLIGHT
TZOFFSETFROM:-0800
TZOFFSETTO:-0700
TZNAME:PDT
DTSTART:20230312T100000
END:DAYLIGHT
BEGIN:STANDARD
TZOFFSETFROM:-0700
TZOFFSETTO:-0800
TZNAME:PST
DTSTART:20231105T090000
END:STANDARD
END:VTIMEZONE
BEGIN:VEVENT
DTSTART;VALUE=DATE:20230630
DTEND;VALUE=DATE:20230701
DTSTAMP:20260420T223336
CREATED:20230609T112324Z
LAST-MODIFIED:20230609T112324Z
UID:3697-1688083200-1688169599@chaoyinschool.ca
SUMMARY:School Office Closes for Summer
DESCRIPTION:
URL:https://chaoyinschool.ca/event/school-office-closes-for-summer/
END:VEVENT
END:VCALENDAR