BEGIN:VCALENDAR
VERSION:2.0
PRODID:-//Chaoyin Bilingual School - ECPv5.1.0//NONSGML v1.0//EN
CALSCALE:GREGORIAN
METHOD:PUBLISH
X-WR-CALNAME:Chaoyin Bilingual School
X-ORIGINAL-URL:https://chaoyinschool.ca
X-WR-CALDESC:Events for Chaoyin Bilingual School
BEGIN:VTIMEZONE
TZID:America/Vancouver
BEGIN:DAYLIGHT
TZOFFSETFROM:-0800
TZOFFSETTO:-0700
TZNAME:PDT
DTSTART:20230312T100000
END:DAYLIGHT
BEGIN:STANDARD
TZOFFSETFROM:-0700
TZOFFSETTO:-0800
TZNAME:PST
DTSTART:20231105T090000
END:STANDARD
END:VTIMEZONE
BEGIN:VEVENT
DTSTART;VALUE=DATE:20230901
DTEND;VALUE=DATE:20230902
DTSTAMP:20260420T195702
CREATED:20230609T120635Z
LAST-MODIFIED:20230609T120635Z
UID:3723-1693526400-1693612799@chaoyinschool.ca
SUMMARY:Staff Orientation
DESCRIPTION:
URL:https://chaoyinschool.ca/event/staff-orientation-2/
END:VEVENT
BEGIN:VEVENT
DTSTART;TZID=America/Vancouver:20230901T090000
DTEND;TZID=America/Vancouver:20230901T120000
DTSTAMP:20260420T195702
CREATED:20230608T114129Z
LAST-MODIFIED:20230608T114129Z
UID:3671-1693558800-1693569600@chaoyinschool.ca
SUMMARY:Staff Orientation
DESCRIPTION:
URL:https://chaoyinschool.ca/event/staff-orientation/
END:VEVENT
END:VCALENDAR